BEGIN:VCALENDAR
VERSION:2.0
PRODID:-//Word Empowerment - ECPv6.15.20//NONSGML v1.0//EN
CALSCALE:GREGORIAN
METHOD:PUBLISH
X-ORIGINAL-URL:https://wordempowerment.org
X-WR-CALDESC:Events for Word Empowerment
REFRESH-INTERVAL;VALUE=DURATION:PT1H
X-Robots-Tag:noindex
X-PUBLISHED-TTL:PT1H
BEGIN:VTIMEZONE
TZID:America/New_York
BEGIN:DAYLIGHT
TZOFFSETFROM:-0500
TZOFFSETTO:-0400
TZNAME:EDT
DTSTART:20240310T070000
END:DAYLIGHT
BEGIN:STANDARD
TZOFFSETFROM:-0400
TZOFFSETTO:-0500
TZNAME:EST
DTSTART:20241103T060000
END:STANDARD
BEGIN:DAYLIGHT
TZOFFSETFROM:-0500
TZOFFSETTO:-0400
TZNAME:EDT
DTSTART:20250309T070000
END:DAYLIGHT
BEGIN:STANDARD
TZOFFSETFROM:-0400
TZOFFSETTO:-0500
TZNAME:EST
DTSTART:20251102T060000
END:STANDARD
BEGIN:DAYLIGHT
TZOFFSETFROM:-0500
TZOFFSETTO:-0400
TZNAME:EDT
DTSTART:20260308T070000
END:DAYLIGHT
BEGIN:STANDARD
TZOFFSETFROM:-0400
TZOFFSETTO:-0500
TZNAME:EST
DTSTART:20261101T060000
END:STANDARD
END:VTIMEZONE
BEGIN:VEVENT
DTSTART;TZID=America/New_York:20251005T150000
DTEND;TZID=America/New_York:20251005T170000
DTSTAMP:20260423T223048
CREATED:20251003T213726Z
LAST-MODIFIED:20251003T213726Z
UID:4390-1759676400-1759683600@wordempowerment.org
SUMMARY:3PM Sunday Service
DESCRIPTION:
URL:https://wordempowerment.org/event/3pm-sunday-service-91/
LOCATION:Word Empowerment Kingdom Center\, 3057 Tamiami Trl\, Charlotte\, FL\, 33952\, United States
END:VEVENT
BEGIN:VEVENT
DTSTART;TZID=America/New_York:20251002T190000
DTEND;TZID=America/New_York:20251002T210000
DTSTAMP:20260423T223048
CREATED:20251003T213346Z
LAST-MODIFIED:20251003T213346Z
UID:4379-1759431600-1759438800@wordempowerment.org
SUMMARY:Thursday Midweek Service
DESCRIPTION:
URL:https://wordempowerment.org/event/thursday-midweek-service-74/
LOCATION:Word Empowerment Kingdom Center\, 3057 Tamiami Trl\, Charlotte\, FL\, 33952\, United States
END:VEVENT
BEGIN:VEVENT
DTSTART;TZID=America/New_York:20250930T190000
DTEND;TZID=America/New_York:20250930T200000
DTSTAMP:20260423T223048
CREATED:20250810T042046Z
LAST-MODIFIED:20250810T042046Z
UID:4368-1759258800-1759262400@wordempowerment.org
SUMMARY:G.V.I Sessions
DESCRIPTION:
URL:https://wordempowerment.org/event/g-v-i-sessions-22/
LOCATION:FL
END:VEVENT
BEGIN:VEVENT
DTSTART;TZID=America/New_York:20250928T150000
DTEND;TZID=America/New_York:20250928T170000
DTSTAMP:20260423T223048
CREATED:20250810T035727Z
LAST-MODIFIED:20250810T035727Z
UID:4331-1759071600-1759078800@wordempowerment.org
SUMMARY:3PM Sunday Service
DESCRIPTION:
URL:https://wordempowerment.org/event/3pm-sunday-service-89/
LOCATION:Word Empowerment Kingdom Center\, 3057 Tamiami Trl\, Charlotte\, FL\, 33952\, United States
END:VEVENT
BEGIN:VEVENT
DTSTART;TZID=America/New_York:20250926T191500
DTEND;TZID=America/New_York:20250926T213000
DTSTAMP:20260423T223048
CREATED:20251003T213217Z
LAST-MODIFIED:20251209T180456Z
UID:4376-1758914100-1758922200@wordempowerment.org
SUMMARY:The Glory Experience (Virtual Only)
DESCRIPTION:
URL:https://wordempowerment.org/event/the-glory-experience-6/
LOCATION:FL
END:VEVENT
BEGIN:VEVENT
DTSTART;TZID=America/New_York:20250925T190000
DTEND;TZID=America/New_York:20250925T210000
DTSTAMP:20260423T223048
CREATED:20250810T041657Z
LAST-MODIFIED:20250810T041657Z
UID:4358-1758826800-1758834000@wordempowerment.org
SUMMARY:Thursday Midweek Service
DESCRIPTION:
URL:https://wordempowerment.org/event/thursday-midweek-service-73/
LOCATION:Word Empowerment Kingdom Center\, 3057 Tamiami Trl\, Charlotte\, FL\, 33952\, United States
END:VEVENT
BEGIN:VEVENT
DTSTART;TZID=America/New_York:20250923T190000
DTEND;TZID=America/New_York:20250923T200000
DTSTAMP:20260423T223048
CREATED:20250810T042011Z
LAST-MODIFIED:20250810T042011Z
UID:4363-1758654000-1758657600@wordempowerment.org
SUMMARY:G.V.I Sessions
DESCRIPTION:
URL:https://wordempowerment.org/event/g-v-i-sessions-21/
LOCATION:FL
END:VEVENT
BEGIN:VEVENT
DTSTART;TZID=America/New_York:20250921T150000
DTEND;TZID=America/New_York:20250921T170000
DTSTAMP:20260423T223048
CREATED:20250810T035700Z
LAST-MODIFIED:20251003T212957Z
UID:4330-1758466800-1758474000@wordempowerment.org
SUMMARY:3PM Sunday Service (Virtual Only)
DESCRIPTION:
URL:https://wordempowerment.org/event/3pm-sunday-service-88/
LOCATION:FL
END:VEVENT
BEGIN:VEVENT
DTSTART;TZID=America/New_York:20250918T190000
DTEND;TZID=America/New_York:20250918T210000
DTSTAMP:20260423T223048
CREATED:20250810T041615Z
LAST-MODIFIED:20250810T041615Z
UID:4349-1758222000-1758229200@wordempowerment.org
SUMMARY:Thursday Midweek Service
DESCRIPTION:
URL:https://wordempowerment.org/event/thursday-midweek-service-72/
LOCATION:Word Empowerment Kingdom Center\, 3057 Tamiami Trl\, Charlotte\, FL\, 33952\, United States
END:VEVENT
BEGIN:VEVENT
DTSTART;TZID=America/New_York:20250916T190000
DTEND;TZID=America/New_York:20250916T200000
DTSTAMP:20260423T223048
CREATED:20250810T041939Z
LAST-MODIFIED:20250810T041939Z
UID:4362-1758049200-1758052800@wordempowerment.org
SUMMARY:G.V.I Sessions
DESCRIPTION:
URL:https://wordempowerment.org/event/g-v-i-sessions-20/
LOCATION:FL
END:VEVENT
BEGIN:VEVENT
DTSTART;TZID=America/New_York:20250914T150000
DTEND;TZID=America/New_York:20250914T170000
DTSTAMP:20260423T223048
CREATED:20250810T035633Z
LAST-MODIFIED:20250810T035633Z
UID:4329-1757862000-1757869200@wordempowerment.org
SUMMARY:3PM Sunday Service
DESCRIPTION:
URL:https://wordempowerment.org/event/3pm-sunday-service-87/
LOCATION:Word Empowerment Kingdom Center\, 3057 Tamiami Trl\, Charlotte\, FL\, 33952\, United States
END:VEVENT
BEGIN:VEVENT
DTSTART;TZID=America/New_York:20250911T190000
DTEND;TZID=America/New_York:20250911T210000
DTSTAMP:20260423T223048
CREATED:20250810T041539Z
LAST-MODIFIED:20250810T041539Z
UID:4348-1757617200-1757624400@wordempowerment.org
SUMMARY:Thursday Midweek Service
DESCRIPTION:
URL:https://wordempowerment.org/event/thursday-midweek-service-71/
LOCATION:Word Empowerment Kingdom Center\, 3057 Tamiami Trl\, Charlotte\, FL\, 33952\, United States
END:VEVENT
BEGIN:VEVENT
DTSTART;TZID=America/New_York:20250909T190000
DTEND;TZID=America/New_York:20250909T200000
DTSTAMP:20260423T223048
CREATED:20250810T041854Z
LAST-MODIFIED:20250810T041854Z
UID:4361-1757444400-1757448000@wordempowerment.org
SUMMARY:G.V.I Sessions
DESCRIPTION:
URL:https://wordempowerment.org/event/g-v-i-sessions-19/
LOCATION:FL
END:VEVENT
BEGIN:VEVENT
DTSTART;TZID=America/New_York:20250907T150000
DTEND;TZID=America/New_York:20250907T170000
DTSTAMP:20260423T223048
CREATED:20250810T035535Z
LAST-MODIFIED:20250810T035535Z
UID:4327-1757257200-1757264400@wordempowerment.org
SUMMARY:3PM Sunday Service
DESCRIPTION:
URL:https://wordempowerment.org/event/3pm-sunday-service-86/
LOCATION:Word Empowerment Kingdom Center\, 3057 Tamiami Trl\, Charlotte\, FL\, 33952\, United States
END:VEVENT
BEGIN:VEVENT
DTSTART;TZID=America/New_York:20250904T190000
DTEND;TZID=America/New_York:20250904T210000
DTSTAMP:20260423T223048
CREATED:20250810T041505Z
LAST-MODIFIED:20250810T041505Z
UID:4347-1757012400-1757019600@wordempowerment.org
SUMMARY:Thursday Midweek Service
DESCRIPTION:
URL:https://wordempowerment.org/event/thursday-midweek-service-70/
LOCATION:Word Empowerment Kingdom Center\, 3057 Tamiami Trl\, Charlotte\, FL\, 33952\, United States
END:VEVENT
BEGIN:VEVENT
DTSTART;TZID=America/New_York:20250902T190000
DTEND;TZID=America/New_York:20250902T200000
DTSTAMP:20260423T223048
CREATED:20250810T041820Z
LAST-MODIFIED:20250810T041820Z
UID:4360-1756839600-1756843200@wordempowerment.org
SUMMARY:G.V.I Sessions
DESCRIPTION:
URL:https://wordempowerment.org/event/g-v-i-sessions-18/
LOCATION:FL
END:VEVENT
BEGIN:VEVENT
DTSTART;TZID=America/New_York:20250831T150000
DTEND;TZID=America/New_York:20250831T170000
DTSTAMP:20260423T223048
CREATED:20250810T040920Z
LAST-MODIFIED:20250810T040920Z
UID:4340-1756652400-1756659600@wordempowerment.org
SUMMARY:3PM Sunday Service
DESCRIPTION:
URL:https://wordempowerment.org/event/3pm-sunday-service-90/
LOCATION:Word Empowerment Kingdom Center\, 3057 Tamiami Trl\, Charlotte\, FL\, 33952\, United States
END:VEVENT
BEGIN:VEVENT
DTSTART;TZID=America/New_York:20250828T190000
DTEND;TZID=America/New_York:20250828T210000
DTSTAMP:20260423T223048
CREATED:20250810T041247Z
LAST-MODIFIED:20250810T041247Z
UID:4345-1756407600-1756414800@wordempowerment.org
SUMMARY:Thursday Midweek Service
DESCRIPTION:
URL:https://wordempowerment.org/event/thursday-midweek-service-68/
LOCATION:Word Empowerment Kingdom Center\, 3057 Tamiami Trl\, Charlotte\, FL\, 33952\, United States
END:VEVENT
BEGIN:VEVENT
DTSTART;TZID=America/New_York:20250826T190000
DTEND;TZID=America/New_York:20250826T200000
DTSTAMP:20260423T223048
CREATED:20250810T035050Z
LAST-MODIFIED:20250810T035050Z
UID:4317-1756234800-1756238400@wordempowerment.org
SUMMARY:G.V.I Sessions
DESCRIPTION:
URL:https://wordempowerment.org/event/g-v-i-sessions-17/
LOCATION:FL
END:VEVENT
BEGIN:VEVENT
DTSTART;TZID=America/New_York:20250824T150000
DTEND;TZID=America/New_York:20250824T170000
DTSTAMP:20260423T223048
CREATED:20250810T035448Z
LAST-MODIFIED:20250810T035448Z
UID:4322-1756047600-1756054800@wordempowerment.org
SUMMARY:3PM Sunday Service
DESCRIPTION:
URL:https://wordempowerment.org/event/3pm-sunday-service-85/
LOCATION:Word Empowerment Kingdom Center\, 3057 Tamiami Trl\, Charlotte\, FL\, 33952\, United States
END:VEVENT
BEGIN:VEVENT
DTSTART;TZID=America/New_York:20250821T190000
DTEND;TZID=America/New_York:20250821T210000
DTSTAMP:20260423T223048
CREATED:20250810T041217Z
LAST-MODIFIED:20250810T041217Z
UID:4344-1755802800-1755810000@wordempowerment.org
SUMMARY:Thursday Midweek Service
DESCRIPTION:
URL:https://wordempowerment.org/event/thursday-midweek-service-67/
LOCATION:Word Empowerment Kingdom Center\, 3057 Tamiami Trl\, Charlotte\, FL\, 33952\, United States
END:VEVENT
BEGIN:VEVENT
DTSTART;TZID=America/New_York:20250819T190000
DTEND;TZID=America/New_York:20250819T200000
DTSTAMP:20260423T223048
CREATED:20250810T035010Z
LAST-MODIFIED:20250810T035010Z
UID:4313-1755630000-1755633600@wordempowerment.org
SUMMARY:G.V.I Sessions
DESCRIPTION:
URL:https://wordempowerment.org/event/g-v-i-sessions-16/
LOCATION:FL
END:VEVENT
BEGIN:VEVENT
DTSTART;TZID=America/New_York:20250817T150000
DTEND;TZID=America/New_York:20250817T170000
DTSTAMP:20260423T223048
CREATED:20250810T035421Z
LAST-MODIFIED:20250810T040330Z
UID:4321-1755442800-1755450000@wordempowerment.org
SUMMARY:3rd Sunday Service (CANCELED)
DESCRIPTION:
URL:https://wordempowerment.org/event/3pm-sunday-service-84/
LOCATION:Word Empowerment Kingdom Center\, 3057 Tamiami Trl\, Charlotte\, FL\, 33952\, United States
END:VEVENT
BEGIN:VEVENT
DTSTART;TZID=America/New_York:20250814T190000
DTEND;TZID=America/New_York:20250814T210000
DTSTAMP:20260423T223048
CREATED:20250810T041144Z
LAST-MODIFIED:20250810T041144Z
UID:4343-1755198000-1755205200@wordempowerment.org
SUMMARY:Thursday Midweek Service
DESCRIPTION:
URL:https://wordempowerment.org/event/thursday-midweek-service-66/
LOCATION:Word Empowerment Kingdom Center\, 3057 Tamiami Trl\, Charlotte\, FL\, 33952\, United States
END:VEVENT
BEGIN:VEVENT
DTSTART;TZID=America/New_York:20250812T190000
DTEND;TZID=America/New_York:20250812T200000
DTSTAMP:20260423T223048
CREATED:20250810T034936Z
LAST-MODIFIED:20250810T034936Z
UID:4312-1755025200-1755028800@wordempowerment.org
SUMMARY:G.V.I Sessions
DESCRIPTION:
URL:https://wordempowerment.org/event/g-v-i-sessions-15/
LOCATION:FL
END:VEVENT
BEGIN:VEVENT
DTSTART;TZID=America/New_York:20250810T150000
DTEND;TZID=America/New_York:20250810T170000
DTSTAMP:20260423T223048
CREATED:20250810T035346Z
LAST-MODIFIED:20250810T035346Z
UID:4320-1754838000-1754845200@wordempowerment.org
SUMMARY:3PM Sunday Service
DESCRIPTION:
URL:https://wordempowerment.org/event/3pm-sunday-service-83/
LOCATION:Word Empowerment Kingdom Center\, 3057 Tamiami Trl\, Charlotte\, FL\, 33952\, United States
END:VEVENT
BEGIN:VEVENT
DTSTART;TZID=America/New_York:20250807T190000
DTEND;TZID=America/New_York:20250807T210000
DTSTAMP:20260423T223048
CREATED:20250810T041352Z
LAST-MODIFIED:20250810T041352Z
UID:4346-1754593200-1754600400@wordempowerment.org
SUMMARY:Thursday Midweek Service
DESCRIPTION:
URL:https://wordempowerment.org/event/thursday-midweek-service-69/
LOCATION:Word Empowerment Kingdom Center\, 3057 Tamiami Trl\, Charlotte\, FL\, 33952\, United States
END:VEVENT
BEGIN:VEVENT
DTSTART;TZID=America/New_York:20250805T190000
DTEND;TZID=America/New_York:20250805T200000
DTSTAMP:20260423T223048
CREATED:20250810T034858Z
LAST-MODIFIED:20250810T034858Z
UID:4311-1754420400-1754424000@wordempowerment.org
SUMMARY:G.V.I Sessions
DESCRIPTION:
URL:https://wordempowerment.org/event/g-v-i-sessions-14/
LOCATION:FL
END:VEVENT
BEGIN:VEVENT
DTSTART;TZID=America/New_York:20250803T150000
DTEND;TZID=America/New_York:20250803T170000
DTSTAMP:20260423T223048
CREATED:20250810T035312Z
LAST-MODIFIED:20250810T035312Z
UID:4319-1754233200-1754240400@wordempowerment.org
SUMMARY:3PM Sunday Service
DESCRIPTION:
URL:https://wordempowerment.org/event/3pm-sunday-service-82/
LOCATION:Word Empowerment Kingdom Center\, 3057 Tamiami Trl\, Charlotte\, FL\, 33952\, United States
END:VEVENT
BEGIN:VEVENT
DTSTART;TZID=America/New_York:20250731T190000
DTEND;TZID=America/New_York:20250731T210000
DTSTAMP:20260423T223048
CREATED:20250612T175715Z
LAST-MODIFIED:20250612T175715Z
UID:4250-1753988400-1753995600@wordempowerment.org
SUMMARY:Thursday Midweek Service (CANCELED)
DESCRIPTION:
URL:https://wordempowerment.org/event/thursday-midweek-service-canceled-11/
LOCATION:Word Empowerment Kingdom Center\, 3057 Tamiami Trl\, Charlotte\, FL\, 33952\, United States
END:VEVENT
END:VCALENDAR