BEGIN:VCALENDAR
VERSION:2.0
PRODID:-//Word Empowerment - ECPv6.15.20//NONSGML v1.0//EN
CALSCALE:GREGORIAN
METHOD:PUBLISH
X-WR-CALNAME:Word Empowerment
X-ORIGINAL-URL:https://wordempowerment.org
X-WR-CALDESC:Events for Word Empowerment
REFRESH-INTERVAL;VALUE=DURATION:PT1H
X-Robots-Tag:noindex
X-PUBLISHED-TTL:PT1H
BEGIN:VTIMEZONE
TZID:America/New_York
BEGIN:DAYLIGHT
TZOFFSETFROM:-0500
TZOFFSETTO:-0400
TZNAME:EDT
DTSTART:20240310T070000
END:DAYLIGHT
BEGIN:STANDARD
TZOFFSETFROM:-0400
TZOFFSETTO:-0500
TZNAME:EST
DTSTART:20241103T060000
END:STANDARD
BEGIN:DAYLIGHT
TZOFFSETFROM:-0500
TZOFFSETTO:-0400
TZNAME:EDT
DTSTART:20250309T070000
END:DAYLIGHT
BEGIN:STANDARD
TZOFFSETFROM:-0400
TZOFFSETTO:-0500
TZNAME:EST
DTSTART:20251102T060000
END:STANDARD
BEGIN:DAYLIGHT
TZOFFSETFROM:-0500
TZOFFSETTO:-0400
TZNAME:EDT
DTSTART:20260308T070000
END:DAYLIGHT
BEGIN:STANDARD
TZOFFSETFROM:-0400
TZOFFSETTO:-0500
TZNAME:EST
DTSTART:20261101T060000
END:STANDARD
END:VTIMEZONE
BEGIN:VEVENT
DTSTART;TZID=America/New_York:20250617T190000
DTEND;TZID=America/New_York:20250617T200000
DTSTAMP:20260424T062201
CREATED:20250612T173922Z
LAST-MODIFIED:20250612T173922Z
UID:4237-1750186800-1750190400@wordempowerment.org
SUMMARY:G.V.I Sessions
DESCRIPTION:
URL:https://wordempowerment.org/event/g-v-i-sessions-8/
LOCATION:FL
END:VEVENT
BEGIN:VEVENT
DTSTART;TZID=America/New_York:20250615T150000
DTEND;TZID=America/New_York:20250615T170000
DTSTAMP:20260424T062201
CREATED:20250612T173340Z
LAST-MODIFIED:20250615T170348Z
UID:4225-1749999600-1750006800@wordempowerment.org
SUMMARY:3PM Sunday Service
DESCRIPTION:
URL:https://wordempowerment.org/event/3pm-sunday-service-76/
LOCATION:Word Empowerment Kingdom Center\, 3057 Tamiami Trl\, Charlotte\, FL\, 33952\, United States
END:VEVENT
BEGIN:VEVENT
DTSTART;VALUE=DATE:20250615
DTEND;VALUE=DATE:20250616
DTSTAMP:20260424T062201
CREATED:20250612T180048Z
LAST-MODIFIED:20250612T180048Z
UID:4251-1749945600-1750031999@wordempowerment.org
SUMMARY:Happy Father's Day
DESCRIPTION:
URL:https://wordempowerment.org/event/happy-fathers-day/
LOCATION:FL
END:VEVENT
BEGIN:VEVENT
DTSTART;TZID=America/New_York:20250612T190000
DTEND;TZID=America/New_York:20250612T210000
DTSTAMP:20260424T062201
CREATED:20250612T174440Z
LAST-MODIFIED:20250612T174440Z
UID:4246-1749754800-1749762000@wordempowerment.org
SUMMARY:Thursday Midweek Service
DESCRIPTION:
URL:https://wordempowerment.org/event/thursday-midweek-service-64/
LOCATION:Word Empowerment Kingdom Center\, 3057 Tamiami Trl\, Charlotte\, FL\, 33952\, United States
END:VEVENT
BEGIN:VEVENT
DTSTART;TZID=America/New_York:20250610T190000
DTEND;TZID=America/New_York:20250610T200000
DTSTAMP:20260424T062201
CREATED:20250612T173850Z
LAST-MODIFIED:20250612T173850Z
UID:4236-1749582000-1749585600@wordempowerment.org
SUMMARY:G.V.I Sessions
DESCRIPTION:
URL:https://wordempowerment.org/event/g-v-i-sessions-7/
LOCATION:FL
END:VEVENT
BEGIN:VEVENT
DTSTART;TZID=America/New_York:20250608T150000
DTEND;TZID=America/New_York:20250608T170000
DTSTAMP:20260424T062201
CREATED:20250612T173307Z
LAST-MODIFIED:20250612T173307Z
UID:4224-1749394800-1749402000@wordempowerment.org
SUMMARY:3PM Sunday Service
DESCRIPTION:
URL:https://wordempowerment.org/event/3pm-sunday-service-75/
LOCATION:Word Empowerment Kingdom Center\, 3057 Tamiami Trl\, Charlotte\, FL\, 33952\, United States
END:VEVENT
BEGIN:VEVENT
DTSTART;TZID=America/New_York:20250605T190000
DTEND;TZID=America/New_York:20250605T210000
DTSTAMP:20260424T062201
CREATED:20250612T174346Z
LAST-MODIFIED:20250612T174346Z
UID:4243-1749150000-1749157200@wordempowerment.org
SUMMARY:Thursday Midweek Service
DESCRIPTION:
URL:https://wordempowerment.org/event/thursday-midweek-service-63/
LOCATION:Word Empowerment Kingdom Center\, 3057 Tamiami Trl\, Charlotte\, FL\, 33952\, United States
END:VEVENT
BEGIN:VEVENT
DTSTART;TZID=America/New_York:20250603T190000
DTEND;TZID=America/New_York:20250603T200000
DTSTAMP:20260424T062201
CREATED:20250612T173812Z
LAST-MODIFIED:20250612T173812Z
UID:4235-1748977200-1748980800@wordempowerment.org
SUMMARY:G.V.I Sessions
DESCRIPTION:
URL:https://wordempowerment.org/event/g-v-i-sessions-6/
LOCATION:FL
END:VEVENT
BEGIN:VEVENT
DTSTART;TZID=America/New_York:20250601T150000
DTEND;TZID=America/New_York:20250601T170000
DTSTAMP:20260424T062201
CREATED:20250612T173239Z
LAST-MODIFIED:20250612T173239Z
UID:4223-1748790000-1748797200@wordempowerment.org
SUMMARY:3PM Sunday Service
DESCRIPTION:
URL:https://wordempowerment.org/event/3pm-sunday-service-74/
LOCATION:Word Empowerment Kingdom Center\, 3057 Tamiami Trl\, Charlotte\, FL\, 33952\, United States
END:VEVENT
BEGIN:VEVENT
DTSTART;TZID=America/New_York:20250530T191500
DTEND;TZID=America/New_York:20250530T213000
DTSTAMP:20260424T062201
CREATED:20250408T025822Z
LAST-MODIFIED:20250612T172756Z
UID:4197-1748632500-1748640600@wordempowerment.org
SUMMARY:The Glory Experience
DESCRIPTION:
URL:https://wordempowerment.org/event/the-glory-experience-4/
LOCATION:Word Empowerment Kingdom Center\, 3057 Tamiami Trl\, Charlotte\, FL\, 33952\, United States
END:VEVENT
BEGIN:VEVENT
DTSTART;TZID=America/New_York:20250529T190000
DTEND;TZID=America/New_York:20250529T210000
DTSTAMP:20260424T062201
CREATED:20250408T023906Z
LAST-MODIFIED:20250408T023906Z
UID:4163-1748545200-1748552400@wordempowerment.org
SUMMARY:Thursday Midweek Service
DESCRIPTION:
URL:https://wordempowerment.org/event/thursday-midweek-service-61/
LOCATION:Word Empowerment Kingdom Center\, 3057 Tamiami Trl\, Charlotte\, FL\, 33952\, United States
END:VEVENT
BEGIN:VEVENT
DTSTART;TZID=America/New_York:20250525T150000
DTEND;TZID=America/New_York:20250525T170000
DTSTAMP:20260424T062201
CREATED:20250408T025456Z
LAST-MODIFIED:20250408T025456Z
UID:4185-1748185200-1748192400@wordempowerment.org
SUMMARY:3PM Sunday Service
DESCRIPTION:
URL:https://wordempowerment.org/event/3pm-sunday-service-73/
LOCATION:Word Empowerment Kingdom Center\, 3057 Tamiami Trl\, Charlotte\, FL\, 33952\, United States
END:VEVENT
BEGIN:VEVENT
DTSTART;TZID=America/New_York:20250522T190000
DTEND;TZID=America/New_York:20250522T210000
DTSTAMP:20260424T062201
CREATED:20250408T023822Z
LAST-MODIFIED:20250408T023822Z
UID:4162-1747940400-1747947600@wordempowerment.org
SUMMARY:Thursday Midweek Service
DESCRIPTION:
URL:https://wordempowerment.org/event/thursday-midweek-service-60/
LOCATION:Word Empowerment Kingdom Center\, 3057 Tamiami Trl\, Charlotte\, FL\, 33952\, United States
END:VEVENT
BEGIN:VEVENT
DTSTART;TZID=America/New_York:20250518T150000
DTEND;TZID=America/New_York:20250518T170000
DTSTAMP:20260424T062201
CREATED:20250408T025428Z
LAST-MODIFIED:20250408T025428Z
UID:4184-1747580400-1747587600@wordempowerment.org
SUMMARY:3PM Sunday Service
DESCRIPTION:
URL:https://wordempowerment.org/event/3pm-sunday-service-72/
LOCATION:Word Empowerment Kingdom Center\, 3057 Tamiami Trl\, Charlotte\, FL\, 33952\, United States
END:VEVENT
BEGIN:VEVENT
DTSTART;TZID=America/New_York:20250515T190000
DTEND;TZID=America/New_York:20250515T210000
DTSTAMP:20260424T062201
CREATED:20250408T023754Z
LAST-MODIFIED:20250408T023754Z
UID:4161-1747335600-1747342800@wordempowerment.org
SUMMARY:Thursday Midweek Service
DESCRIPTION:
URL:https://wordempowerment.org/event/thursday-midweek-service-59/
LOCATION:Word Empowerment Kingdom Center\, 3057 Tamiami Trl\, Charlotte\, FL\, 33952\, United States
END:VEVENT
BEGIN:VEVENT
DTSTART;TZID=America/New_York:20250511T150000
DTEND;TZID=America/New_York:20250511T170000
DTSTAMP:20260424T062201
CREATED:20250408T025359Z
LAST-MODIFIED:20250408T025359Z
UID:4183-1746975600-1746982800@wordempowerment.org
SUMMARY:3PM Sunday Service
DESCRIPTION:
URL:https://wordempowerment.org/event/3pm-sunday-service-71/
LOCATION:Word Empowerment Kingdom Center\, 3057 Tamiami Trl\, Charlotte\, FL\, 33952\, United States
END:VEVENT
BEGIN:VEVENT
DTSTART;TZID=America/New_York:20250508T190000
DTEND;TZID=America/New_York:20250508T210000
DTSTAMP:20260424T062201
CREATED:20250408T023722Z
LAST-MODIFIED:20250408T023722Z
UID:4160-1746730800-1746738000@wordempowerment.org
SUMMARY:Thursday Midweek Service
DESCRIPTION:
URL:https://wordempowerment.org/event/thursday-midweek-service-58/
LOCATION:Word Empowerment Kingdom Center\, 3057 Tamiami Trl\, Charlotte\, FL\, 33952\, United States
END:VEVENT
BEGIN:VEVENT
DTSTART;TZID=America/New_York:20250504T150000
DTEND;TZID=America/New_York:20250504T170000
DTSTAMP:20260424T062201
CREATED:20250408T025331Z
LAST-MODIFIED:20250408T025331Z
UID:4181-1746370800-1746378000@wordempowerment.org
SUMMARY:3PM Sunday Service
DESCRIPTION:
URL:https://wordempowerment.org/event/3pm-sunday-service-70/
LOCATION:Word Empowerment Kingdom Center\, 3057 Tamiami Trl\, Charlotte\, FL\, 33952\, United States
END:VEVENT
BEGIN:VEVENT
DTSTART;TZID=America/New_York:20250501T190000
DTEND;TZID=America/New_York:20250501T210000
DTSTAMP:20260424T062201
CREATED:20250408T023608Z
LAST-MODIFIED:20250408T023608Z
UID:4155-1746126000-1746133200@wordempowerment.org
SUMMARY:Thursday Midweek Service
DESCRIPTION:
URL:https://wordempowerment.org/event/thursday-midweek-service-57/
LOCATION:Word Empowerment Kingdom Center\, 3057 Tamiami Trl\, Charlotte\, FL\, 33952\, United States
END:VEVENT
BEGIN:VEVENT
DTSTART;TZID=America/New_York:20250429T190000
DTEND;TZID=America/New_York:20250429T200000
DTSTAMP:20260424T062201
CREATED:20250408T030935Z
LAST-MODIFIED:20250408T030935Z
UID:4203-1745953200-1745956800@wordempowerment.org
SUMMARY:G.V.I Sessions
DESCRIPTION:
URL:https://wordempowerment.org/event/g-v-i-sessions-4/
LOCATION:FL
END:VEVENT
BEGIN:VEVENT
DTSTART;TZID=America/New_York:20250427T150000
DTEND;TZID=America/New_York:20250427T170000
DTSTAMP:20260424T062201
CREATED:20250408T025300Z
LAST-MODIFIED:20250408T025300Z
UID:4182-1745766000-1745773200@wordempowerment.org
SUMMARY:3PM Sunday Service
DESCRIPTION:
URL:https://wordempowerment.org/event/3pm-sunday-service-69/
LOCATION:Word Empowerment Kingdom Center\, 3057 Tamiami Trl\, Charlotte\, FL\, 33952\, United States
END:VEVENT
BEGIN:VEVENT
DTSTART;TZID=America/New_York:20250425T191500
DTEND;TZID=America/New_York:20250425T213000
DTSTAMP:20260424T062201
CREATED:20250408T025736Z
LAST-MODIFIED:20250408T025736Z
UID:4195-1745608500-1745616600@wordempowerment.org
SUMMARY:The Glory Experience
DESCRIPTION:
URL:https://wordempowerment.org/event/the-glory-experience-3/
LOCATION:Word Empowerment Kingdom Center\, 3057 Tamiami Trl\, Charlotte\, FL\, 33952\, United States
END:VEVENT
BEGIN:VEVENT
DTSTART;TZID=America/New_York:20250424T190000
DTEND;TZID=America/New_York:20250424T210000
DTSTAMP:20260424T062201
CREATED:20250408T024107Z
LAST-MODIFIED:20250408T024107Z
UID:4168-1745521200-1745528400@wordempowerment.org
SUMMARY:Thursday Midweek Service
DESCRIPTION:
URL:https://wordempowerment.org/event/thursday-midweek-service-62/
LOCATION:Word Empowerment Kingdom Center\, 3057 Tamiami Trl\, Charlotte\, FL\, 33952\, United States
END:VEVENT
BEGIN:VEVENT
DTSTART;TZID=America/New_York:20250422T190000
DTEND;TZID=America/New_York:20250422T200000
DTSTAMP:20260424T062201
CREATED:20250408T031100Z
LAST-MODIFIED:20250408T031100Z
UID:4209-1745348400-1745352000@wordempowerment.org
SUMMARY:G.V.I Sessions
DESCRIPTION:
URL:https://wordempowerment.org/event/g-v-i-sessions-5/
LOCATION:FL
END:VEVENT
BEGIN:VEVENT
DTSTART;TZID=America/New_York:20250420T150000
DTEND;TZID=America/New_York:20250420T170000
DTSTAMP:20260424T062201
CREATED:20250408T025042Z
LAST-MODIFIED:20250408T025042Z
UID:4172-1745161200-1745168400@wordempowerment.org
SUMMARY:Resurrection Sunday
DESCRIPTION:
URL:https://wordempowerment.org/event/resurrection-sunday-2/
LOCATION:Word Empowerment Kingdom Center\, 3057 Tamiami Trl\, Charlotte\, FL\, 33952\, United States
END:VEVENT
BEGIN:VEVENT
DTSTART;TZID=America/New_York:20250418T191500
DTEND;TZID=America/New_York:20250418T213000
DTSTAMP:20260424T062201
CREATED:20250408T024752Z
LAST-MODIFIED:20250408T024752Z
UID:4170-1745003700-1745011800@wordempowerment.org
SUMMARY:Good Friday Service
DESCRIPTION:
URL:https://wordempowerment.org/event/good-friday-service-2/
LOCATION:Word Empowerment Kingdom Center\, 3057 Tamiami Trl\, Charlotte\, FL\, 33952\, United States
END:VEVENT
BEGIN:VEVENT
DTSTART;TZID=America/New_York:20250417T190000
DTEND;TZID=America/New_York:20250417T210000
DTSTAMP:20260424T062201
CREATED:20250408T023514Z
LAST-MODIFIED:20250408T023514Z
UID:4154-1744916400-1744923600@wordempowerment.org
SUMMARY:Thursday Midweek Service
DESCRIPTION:
URL:https://wordempowerment.org/event/thursday-midweek-service-56/
LOCATION:Word Empowerment Kingdom Center\, 3057 Tamiami Trl\, Charlotte\, FL\, 33952\, United States
END:VEVENT
BEGIN:VEVENT
DTSTART;TZID=America/New_York:20250415T190000
DTEND;TZID=America/New_York:20250415T200000
DTSTAMP:20260424T062201
CREATED:20250408T030835Z
LAST-MODIFIED:20250408T030835Z
UID:4201-1744743600-1744747200@wordempowerment.org
SUMMARY:G.V.I Sessions
DESCRIPTION:
URL:https://wordempowerment.org/event/g-v-i-sessions-2/
LOCATION:FL
END:VEVENT
BEGIN:VEVENT
DTSTART;TZID=America/New_York:20250413T150000
DTEND;TZID=America/New_York:20250413T170000
DTSTAMP:20260424T062201
CREATED:20250408T025230Z
LAST-MODIFIED:20250408T025230Z
UID:4180-1744556400-1744563600@wordempowerment.org
SUMMARY:3PM Sunday Service
DESCRIPTION:
URL:https://wordempowerment.org/event/3pm-sunday-service-68/
LOCATION:Word Empowerment Kingdom Center\, 3057 Tamiami Trl\, Charlotte\, FL\, 33952\, United States
END:VEVENT
BEGIN:VEVENT
DTSTART;TZID=America/New_York:20250410T190000
DTEND;TZID=America/New_York:20250410T210000
DTSTAMP:20260424T062201
CREATED:20250408T023425Z
LAST-MODIFIED:20250408T023425Z
UID:4153-1744311600-1744318800@wordempowerment.org
SUMMARY:Thursday Midweek Service
DESCRIPTION:
URL:https://wordempowerment.org/event/thursday-midweek-service-55/
LOCATION:Word Empowerment Kingdom Center\, 3057 Tamiami Trl\, Charlotte\, FL\, 33952\, United States
END:VEVENT
END:VCALENDAR